BEGIN:VCALENDAR
METHOD:REQUEST
PRODID:escape GmbH
VERSION:2.0
BEGIN:VEVENT
UID:REG_20260722_München
CLASS:PUBLIC
SUMMARY:Regio Meeting München/Südbayern
DESCRIPTION:Oracle
LOCATION:Munich
DTSTART:20260722T173000
DTEND:20260722T193000
DTSTAMP:20260422T142701
END:VEVENT
END:VCALENDAR