BEGIN:VCALENDAR
METHOD:REQUEST
PRODID:escape GmbH
VERSION:2.0
BEGIN:VEVENT
UID:WEBS_20260612_DB_copy_985
CLASS:PUBLIC
SUMMARY:Windows Performance Counters – The Underrated Goldmine in the Operating System
DESCRIPTION:DB WebSession with Gabriel Köhl
LOCATION:Online
DTSTART:20260612T110000
DTEND:20260612T120000
DTSTAMP:20260421T210728
END:VEVENT
END:VCALENDAR