BEGIN:VCALENDAR
METHOD:REQUEST
PRODID:escape GmbH
VERSION:2.0
BEGIN:VEVENT
UID:WebS_20260706_DB_Nachtisch
CLASS:PUBLIC
SUMMARY:DOAG DBTalk Database: Database Migration
DESCRIPTION:DBTalk with  Bruno Cirone and Matthias Jung
LOCATION:Online
DTSTART:20260706T130000
DTEND:20260706T133000
DTSTAMP:20260422T173846
END:VEVENT
END:VCALENDAR